BEGIN:VCALENDAR
VERSION:2.0
PRODID:-//The Purple Mountain - ECPv6.15.20//NONSGML v1.0//EN
CALSCALE:GREGORIAN
METHOD:PUBLISH
X-WR-CALNAME:The Purple Mountain
X-ORIGINAL-URL:https://thepurplemountain.co.uk
X-WR-CALDESC:Events for The Purple Mountain
REFRESH-INTERVAL;VALUE=DURATION:PT1H
X-Robots-Tag:noindex
X-PUBLISHED-TTL:PT1H
BEGIN:VTIMEZONE
TZID:Europe/London
BEGIN:DAYLIGHT
TZOFFSETFROM:+0000
TZOFFSETTO:+0100
TZNAME:BST
DTSTART:20250330T010000
END:DAYLIGHT
BEGIN:STANDARD
TZOFFSETFROM:+0100
TZOFFSETTO:+0000
TZNAME:GMT
DTSTART:20251026T010000
END:STANDARD
BEGIN:DAYLIGHT
TZOFFSETFROM:+0000
TZOFFSETTO:+0100
TZNAME:BST
DTSTART:20260329T010000
END:DAYLIGHT
BEGIN:STANDARD
TZOFFSETFROM:+0100
TZOFFSETTO:+0000
TZNAME:GMT
DTSTART:20261025T010000
END:STANDARD
BEGIN:DAYLIGHT
TZOFFSETFROM:+0000
TZOFFSETTO:+0100
TZNAME:BST
DTSTART:20270328T010000
END:DAYLIGHT
BEGIN:STANDARD
TZOFFSETFROM:+0100
TZOFFSETTO:+0000
TZNAME:GMT
DTSTART:20271031T010000
END:STANDARD
END:VTIMEZONE
BEGIN:VEVENT
DTSTART;TZID=Europe/London:20260411T100000
DTEND;TZID=Europe/London:20260411T123000
DTSTAMP:20260422T105107
CREATED:20260318T193841Z
LAST-MODIFIED:20260318T193841Z
UID:4879-1775901600-1775910600@thepurplemountain.co.uk
SUMMARY:Purple Mountain mini retreat day (New event)
DESCRIPTION:Saturday 11th April \nPurple Mountain mini retreat day (New event) \n  \nSteven and Chris welcome you to this new offering\, a wonderful combination of healing energy work\, relaxation and recharge in a space with likeminded people. Opportunity to release let go and receive energies of peace \n  \n\nBreathwork\nGuided meditation\nChakra dance – Movement to assist releasing and reenergising chakra points\nSound healing cleanse – with Crystal and Tibetan singing bowls\nSharing circle with fruit and refreshments\nComfortable mats\, pillows and blankets provided\n\n  \n10.00am – 12.30pm \n£22 ( deposit required) \nPlaces available by booking only \nCall or text 07891817182
URL:https://thepurplemountain.co.uk/event/purple-mountain-mini-retreat-day-new-event/
LOCATION:The Purple Mountain\, 60 BOLD STREET\, FLEETWOOD\, FY7 6HL\, United Kingdom
CATEGORIES:Healing,Meditation,Sound Bath
ATTACH;FMTTYPE=image/png:https://thepurplemountain.co.uk/wp-content/uploads/2026/03/1000051813.png
ORGANIZER;CN="The Purple Mountain":MAILTO:stevenbause@gmail.com
END:VEVENT
END:VCALENDAR