BEGIN:VCALENDAR
VERSION:2.0
PRODID:-//The Purple Mountain - ECPv6.15.20//NONSGML v1.0//EN
CALSCALE:GREGORIAN
METHOD:PUBLISH
X-ORIGINAL-URL:https://thepurplemountain.co.uk
X-WR-CALDESC:Events for The Purple Mountain
REFRESH-INTERVAL;VALUE=DURATION:PT1H
X-Robots-Tag:noindex
X-PUBLISHED-TTL:PT1H
BEGIN:VTIMEZONE
TZID:Europe/London
BEGIN:DAYLIGHT
TZOFFSETFROM:+0000
TZOFFSETTO:+0100
TZNAME:BST
DTSTART:20250330T010000
END:DAYLIGHT
BEGIN:STANDARD
TZOFFSETFROM:+0100
TZOFFSETTO:+0000
TZNAME:GMT
DTSTART:20251026T010000
END:STANDARD
BEGIN:DAYLIGHT
TZOFFSETFROM:+0000
TZOFFSETTO:+0100
TZNAME:BST
DTSTART:20260329T010000
END:DAYLIGHT
BEGIN:STANDARD
TZOFFSETFROM:+0100
TZOFFSETTO:+0000
TZNAME:GMT
DTSTART:20261025T010000
END:STANDARD
BEGIN:DAYLIGHT
TZOFFSETFROM:+0000
TZOFFSETTO:+0100
TZNAME:BST
DTSTART:20270328T010000
END:DAYLIGHT
BEGIN:STANDARD
TZOFFSETFROM:+0100
TZOFFSETTO:+0000
TZNAME:GMT
DTSTART:20271031T010000
END:STANDARD
END:VTIMEZONE
BEGIN:VEVENT
DTSTART;TZID=Europe/London:20260424T180000
DTEND;TZID=Europe/London:20260522T200000
DTSTAMP:20260425T122727
CREATED:20260318T194154Z
LAST-MODIFIED:20260318T194205Z
UID:4885-1777053600-1779480000@thepurplemountain.co.uk
SUMMARY:Arch angel Michael healing therapy night
DESCRIPTION:Friday 24th April \nArch angel Michael healing therapy night \n  \na unique healing journey on therapy beds\, connecting with the loving divine energies of Arch angel Michael. A healing journey assisting to cleanse negative energies\, receive and recharge assisting clarity and inner peace \nIncludes \n  \nHands on intuitive energy healing \nCrystals placed on and around the body \nSound healing \nEssential oils and sprays \nAngel card \n  \n6.00pm – 8.00pm \n£30 ( Deposit required) \nPlaces available by booking \nCall or text 07891817182
URL:https://thepurplemountain.co.uk/event/arch-angel-michael-healing-therapy-night-2/
LOCATION:The Purple Mountain\, 60 BOLD STREET\, FLEETWOOD\, FY7 6HL\, United Kingdom
CATEGORIES:Healing
ATTACH;FMTTYPE=image/png:https://thepurplemountain.co.uk/wp-content/uploads/2026/03/1000051944.png
ORGANIZER;CN="The Purple Mountain":MAILTO:stevenbause@gmail.com
END:VEVENT
END:VCALENDAR